
BEGIN:VCALENDAR
PRODID:PHP
X-WR-TIMEZONE:Europe/Madrid
VERSION:2.0
METHOD:PUBLISH
X-WR-CALNAME:FORMACIÓN AINIA
X-ORIGINAL-URL:https://formacion.ainia.es/
X-WR-CALDESC:JORNADA La Sostenibilidad de los Envases en la Alimentación: aspectos legales y técnicos - SEVILLA
BEGIN:VEVENT
UID:
CREATED:20260421T174631Z
DTSTAMP:20260421T174631Z
DTSTART;VALUE=DATE:20230601
DTEND;VALUE=DATE:20230601T200000Z
DESCRIPTION:JORNADA La Sostenibilidad de los Envases en la Alimentación: aspectos legales y técnicos - SEVILLA
SUMMARY:JORNADA La Sostenibilidad de los Envases en la Alimentación: aspectos legales y técnicos - SEVILLA
DESCRIPTION:
URL:https://formacion.ainia.es
LOCATION:
ATTENDEE;RSVP=TRUE:mailto:info@ainia.es
ORGANIZER;CN=AINIA:mailto:info@ainia.es
LAST-MODIFIED:20260421T174631Z
PRIORITY:5
SEQUENCE:0
STATUS:CONFIRMED
TRANSP:TRANSPARENT
END:VEVENT
END:VCALENDAR
