
BEGIN:VCALENDAR
PRODID:PHP
X-WR-TIMEZONE:Europe/Madrid
VERSION:2.0
METHOD:PUBLISH
X-WR-CALNAME:FORMACIÓN AINIA
X-ORIGINAL-URL:https://formacion.ainia.es/
X-WR-CALDESC:JORNADA Power to Consumer: La importancia de las personas consumidoras en la Capitalidad Verde Europea
BEGIN:VEVENT
UID:
CREATED:20260420T130304Z
DTSTAMP:20260420T130304Z
DTSTART;VALUE=DATE:20240312
DTEND;VALUE=DATE:20240312T200000Z
DESCRIPTION:JORNADA Power to Consumer: La importancia de las personas consumidoras en la Capitalidad Verde Europea
SUMMARY:JORNADA Power to Consumer: La importancia de las personas consumidoras en la Capitalidad Verde Europea
DESCRIPTION:
URL:https://formacion.ainia.es
LOCATION:
ATTENDEE;RSVP=TRUE:mailto:info@ainia.es
ORGANIZER;CN=AINIA:mailto:info@ainia.es
LAST-MODIFIED:20260420T130304Z
PRIORITY:5
SEQUENCE:0
STATUS:CONFIRMED
TRANSP:TRANSPARENT
END:VEVENT
END:VCALENDAR
