
BEGIN:VCALENDAR
PRODID:PHP
X-WR-TIMEZONE:Europe/Madrid
VERSION:2.0
METHOD:PUBLISH
X-WR-CALNAME:FORMACIÓN AINIA
X-ORIGINAL-URL:https://formacion.ainia.es/
X-WR-CALDESC:WEBINAR Alimentos plant based: Innovación en análogos cárnicos y lácteos
BEGIN:VEVENT
UID:
CREATED:20260420T094617Z
DTSTAMP:20260420T094617Z
DTSTART;VALUE=DATE:20250912
DTEND;VALUE=DATE:20250912T200000Z
DESCRIPTION:WEBINAR Alimentos plant based: Innovación en análogos cárnicos y lácteos
SUMMARY:WEBINAR Alimentos plant based: Innovación en análogos cárnicos y lácteos
DESCRIPTION:
URL:https://formacion.ainia.es
LOCATION:
ATTENDEE;RSVP=TRUE:mailto:info@ainia.es
ORGANIZER;CN=AINIA:mailto:info@ainia.es
LAST-MODIFIED:20260420T094617Z
PRIORITY:5
SEQUENCE:0
STATUS:CONFIRMED
TRANSP:TRANSPARENT
END:VEVENT
END:VCALENDAR
