
BEGIN:VCALENDAR
PRODID:PHP
X-WR-TIMEZONE:Europe/Madrid
VERSION:2.0
METHOD:PUBLISH
X-WR-CALNAME:FORMACIÓN AINIA
X-ORIGINAL-URL:https://formacion.ainia.es/
X-WR-CALDESC:IV Foro Innovación Cosmética
BEGIN:VEVENT
UID:
CREATED:20260425T110155Z
DTSTAMP:20260425T110155Z
DTSTART;VALUE=DATE:20260528
DTEND;VALUE=DATE:20260528T200000Z
DESCRIPTION:IV Foro Innovación Cosmética
SUMMARY:IV Foro Innovación Cosmética
DESCRIPTION:
URL:https://formacion.ainia.es
LOCATION:
ATTENDEE;RSVP=TRUE:mailto:info@ainia.es
ORGANIZER;CN=AINIA:mailto:info@ainia.es
LAST-MODIFIED:20260425T110155Z
PRIORITY:5
SEQUENCE:0
STATUS:CONFIRMED
TRANSP:TRANSPARENT
END:VEVENT
END:VCALENDAR
